BEGIN:VCALENDAR
VERSION:2.0
PRODID:-//Fischoff National Chamber Music Association - ECPv6.15.20//NONSGML v1.0//EN
CALSCALE:GREGORIAN
METHOD:PUBLISH
X-WR-CALNAME:Fischoff National Chamber Music Association
X-ORIGINAL-URL:https://www.fischoff.org
X-WR-CALDESC:Events for Fischoff National Chamber Music Association
REFRESH-INTERVAL;VALUE=DURATION:PT1H
X-Robots-Tag:noindex
X-PUBLISHED-TTL:PT1H
BEGIN:VTIMEZONE
TZID:America/New_York
BEGIN:DAYLIGHT
TZOFFSETFROM:-0500
TZOFFSETTO:-0400
TZNAME:EDT
DTSTART:20220313T070000
END:DAYLIGHT
BEGIN:STANDARD
TZOFFSETFROM:-0400
TZOFFSETTO:-0500
TZNAME:EST
DTSTART:20221106T060000
END:STANDARD
BEGIN:DAYLIGHT
TZOFFSETFROM:-0500
TZOFFSETTO:-0400
TZNAME:EDT
DTSTART:20230312T070000
END:DAYLIGHT
BEGIN:STANDARD
TZOFFSETFROM:-0400
TZOFFSETTO:-0500
TZNAME:EST
DTSTART:20231105T060000
END:STANDARD
BEGIN:DAYLIGHT
TZOFFSETFROM:-0500
TZOFFSETTO:-0400
TZNAME:EDT
DTSTART:20240310T070000
END:DAYLIGHT
BEGIN:STANDARD
TZOFFSETFROM:-0400
TZOFFSETTO:-0500
TZNAME:EST
DTSTART:20241103T060000
END:STANDARD
BEGIN:DAYLIGHT
TZOFFSETFROM:-0500
TZOFFSETTO:-0400
TZNAME:EDT
DTSTART:20250309T070000
END:DAYLIGHT
BEGIN:STANDARD
TZOFFSETFROM:-0400
TZOFFSETTO:-0500
TZNAME:EST
DTSTART:20251102T060000
END:STANDARD
BEGIN:DAYLIGHT
TZOFFSETFROM:-0500
TZOFFSETTO:-0400
TZNAME:EDT
DTSTART:20260308T070000
END:DAYLIGHT
BEGIN:STANDARD
TZOFFSETFROM:-0400
TZOFFSETTO:-0500
TZNAME:EST
DTSTART:20261101T060000
END:STANDARD
END:VTIMEZONE
BEGIN:VEVENT
DTSTART;TZID=America/New_York:20250613T153000
DTEND;TZID=America/New_York:20250613T170000
DTSTAMP:20260424T042128
CREATED:20250523T182843Z
LAST-MODIFIED:20250613T181949Z
UID:13509-1749828600-1749834000@www.fischoff.org
SUMMARY:Chamber Music Summer Intensive: Final Concert & Public Reception
DESCRIPTION:We are excited to invite you to join us for our incredible Fischoff Chamber Music Summer Intensive Ensembles’ Final Concert! This concert is the perfect opportunity to experience the exceptional talent and hard work of our Intensive students\, showcased through a diverse and captivating repertoire. \nFollowing the concert will be a community reception with free food\, drink\, and conversation! \nTime & Location\nFriday\, June 13\n3:30-5:00 PM\nLittle Theatre\, Moreau Center for the Arts\nSaint Mary’s College\, Notre Dame\, IN
URL:https://www.fischoff.org/event/2025-summer-intensive-final-concert-public-reception/
LOCATION:Little Theatre\, Saint Mary’s College\, Little Theatre\, Moreau Center for the Arts\, Saint Mary's College\, Notre Dame\, IN\, 46556\, United States
CATEGORIES:Chamber Music Summer Intensive
ATTACH;FMTTYPE=image/png:https://www.fischoff.org/wp-content/uploads/2025/06/Fischoff-Summer-Intensive-Concerts.png
END:VEVENT
BEGIN:VEVENT
DTSTART;TZID=America/New_York:20250611T190000
DTEND;TZID=America/New_York:20250611T200000
DTSTAMP:20260424T042128
CREATED:20250523T182244Z
LAST-MODIFIED:20250523T182554Z
UID:13496-1749668400-1749672000@www.fischoff.org
SUMMARY:Chamber Music Summer Intensive: Faculty Concert
DESCRIPTION:Join us for an evening of enchanting and inspiring chamber music by Fischoff’s Chamber Music Summer Intensive guest faculty. \n  \nPerformers:\n\nJaehyuk Choi\, Alex Cox\, Geena Kam\, Adrienne Kim\, Lauren Spaulding\, and Christopher Whitley \n  \n\n\nTime & Location:\nWednesday\, June 11\, 2025\n7:00 pm – 8:00 PM\nLittle Theatre\, Moreau Center for the Arts\nSaint Mary’s College\, Notre Dame\, IN
URL:https://www.fischoff.org/event/2025-summer-intensive-faculty-concert/
LOCATION:Little Theatre\, Saint Mary’s College\, Little Theatre\, Moreau Center for the Arts\, Saint Mary's College\, Notre Dame\, IN\, 46556\, United States
CATEGORIES:Chamber Music Summer Intensive
END:VEVENT
BEGIN:VEVENT
DTSTART;TZID=America/New_York:20250610T160000
DTEND;TZID=America/New_York:20250610T164500
DTSTAMP:20260424T042128
CREATED:20250523T181830Z
LAST-MODIFIED:20250523T183302Z
UID:13477-1749571200-1749573900@www.fischoff.org
SUMMARY:Chamber Music Summer Intensive: Student Showcase Concert
DESCRIPTION:Please join us for a Student Showcase Concert featuring talented students from the Fischoff Chamber Music Summer Intensive. Our students will demonstrate their exceptional talents and skills. \nPerformers:\nKaren Allen\, Leila Browning\, Linnea Browning\, Lydia Graham\, Joanna Jong\, Mae O’Brien\, and Simeon Wilson  \nTime & Location\nTuesday\, June 10\, 2025\n4:00-4:45 PM\nLittle Theatre\, Moreau Center for the Arts\nSaint Mary’s College\, Notre Dame\, IN
URL:https://www.fischoff.org/event/2025-summer-intensive-student-showcase-concert/
LOCATION:Little Theatre\, Saint Mary’s College\, Little Theatre\, Moreau Center for the Arts\, Saint Mary's College\, Notre Dame\, IN\, 46556\, United States
CATEGORIES:Chamber Music Summer Intensive
ATTACH;FMTTYPE=image/jpeg:https://www.fischoff.org/wp-content/uploads/2024/05/Students-Showcase-Concert-Tuesday-Wednesday.jpg
END:VEVENT
BEGIN:VEVENT
DTSTART;TZID=America/New_York:20240614T153000
DTEND;TZID=America/New_York:20240614T170000
DTSTAMP:20260424T042128
CREATED:20240524T165152Z
LAST-MODIFIED:20240606T133010Z
UID:4631-1718379000-1718384400@www.fischoff.org
SUMMARY:Fischoff Chamber Music Summer Intensive: Final Concert & Community Reception
DESCRIPTION:We are excited to invite you to join us for our incredible Fischoff Chamber Music Summer Intensive Ensembles’ Final Concert. Our Intensive ensembles will present works by Beethoven\, Schubert\, Dvorak\, Jesse Montgomery\, Camila Cabello\, and more! This concert is the perfect opportunity to experience the exceptional talent and hard work of our Intensive students\, showcased through a diverse and captivating repertoire. \nFollowing the concert will be a community reception with free food\, drink\, and conversation! \nPlease RSVP HERE for the reception by Wednesday\, June 12. \nTime & Location\nFriday\, June 14\n3:30-5:00 PM\nLittle Theatre\, Moreau Center for the Arts\nSaint Mary’s College\, Notre Dame\, IN
URL:https://www.fischoff.org/event/fischoff-chamber-music-summer-intensive-final-concert-community-reception/
LOCATION:Little Theatre\, Saint Mary’s College\, Little Theatre\, Moreau Center for the Arts\, Saint Mary's College\, Notre Dame\, IN\, 46556\, United States
CATEGORIES:Chamber Music Summer Intensive
ATTACH;FMTTYPE=image/png:https://www.fischoff.org/wp-content/uploads/2024/05/Intensive-Final-Concert-Comm-Reception.png
END:VEVENT
BEGIN:VEVENT
DTSTART;TZID=America/New_York:20240612T190000
DTEND;TZID=America/New_York:20240612T203000
DTSTAMP:20260424T042128
CREATED:20240520T135403Z
LAST-MODIFIED:20240604T192842Z
UID:4001-1718218800-1718224200@www.fischoff.org
SUMMARY:Fischoff Chamber Music Summer Intensive: Thalea String Quartet with Kevin Kwan Loucks\, piano Guest Artist Recital
DESCRIPTION:Join us for an evening of enchanting and inspiring chamber music by the quartet-in-residence\, Thalea String Quartet with guest artist faculty Kevin Kwan Loucks on piano. \n“Thalea never failed to deliver a stirring performance” (Calgary Herald); The Thalea String Quartet brings their signature vibrancy and emotional commitment to dynamic performances that reflect the past\, present\, and future of the string quartet repertoire while celebrating diverse musical traditions from around the world. Click HERE to learn more about the Thalea String Quartet. \nPianist Kevin Kwan Loucks enjoys a multifaceted career as an international concert artist\, educator\, and arts entrepreneur. He has been described as “impeccable” (La Presse\, Montreal)\, “a shining talent” (Völser Zeitung\, Italy)\, and “a pianist of exhilarating polish\, unity and engagement” (The Orange County Register\, California). Click HERE to learn more about Kevin Kwan Loucks. \n  \nProgram:\nString Quartet in B flat Major\, Op. 76\, No. 4\, “Sunrise” I. Allegro con spirit\, Joseph Haydn\nSunrise of the Planetary Dream Collector\, Terry Riley\nSomething Golden\, Andrew Yee \n– Intermission – \n\nPiano Quintet in A minor\, Edward Elgar \n  \n\n\nTime & Location:\nWednesday\, June 12\, 2024\n7:00 pm – 8:30 PM\nLittle Theatre\, Moreau Center for the Arts\nSaint Mary’s College\, Notre Dame\, IN
URL:https://www.fischoff.org/event/thalea-string-quartet-with-kevin-kwan-loucks-piano/
LOCATION:Little Theatre\, Saint Mary’s College\, Little Theatre\, Moreau Center for the Arts\, Saint Mary's College\, Notre Dame\, IN\, 46556\, United States
CATEGORIES:Chamber Music Summer Intensive
ATTACH;FMTTYPE=image/png:https://www.fischoff.org/wp-content/uploads/2024/05/Thalea-String-Quartet.png
END:VEVENT
BEGIN:VEVENT
DTSTART;TZID=America/New_York:20240612T130000
DTEND;TZID=America/New_York:20240612T134500
DTSTAMP:20260424T042128
CREATED:20240524T164922Z
LAST-MODIFIED:20240528T144240Z
UID:4625-1718197200-1718199900@www.fischoff.org
SUMMARY:Fischoff Chamber Music Summer Intensive: Student Showcase Concert II
DESCRIPTION:Please join us for a Student Showcase Concert II featuring talented students from the Fischoff Chamber Music Summer Intensive. Our students will demonstrate their exceptional talents and skills. \nPerformers:\nPreston Grimmer (piano)\, Elizabeth Huff (piano)\, Elizabeth Huff (piano)\, Vinayak Vikram (soprano recorder)\, Braden Miesse (piano)\, and Ignatius Caro (piano) \nTime & Location\nWednesday\, June 12\, 2024\n1:00-1:45 PM\nLittle Theatre\, Moreau Center for the Arts\nSaint Mary’s College
URL:https://www.fischoff.org/event/student-showcase-concert-2/
LOCATION:Little Theatre\, Saint Mary’s College\, Little Theatre\, Moreau Center for the Arts\, Saint Mary's College\, Notre Dame\, IN\, 46556\, United States
CATEGORIES:Chamber Music Summer Intensive
ATTACH;FMTTYPE=image/jpeg:https://www.fischoff.org/wp-content/uploads/2024/05/Students-Showcase-Concert-Tuesday-Wednesday.jpg
END:VEVENT
BEGIN:VEVENT
DTSTART;TZID=America/New_York:20240611T160000
DTEND;TZID=America/New_York:20240611T164500
DTSTAMP:20260424T042128
CREATED:20240524T164656Z
LAST-MODIFIED:20240528T144333Z
UID:4618-1718121600-1718124300@www.fischoff.org
SUMMARY:Fischoff Chamber Music Summer Intensive: Student Showcase Concert I
DESCRIPTION:Please join us for a Student Showcase Concert I featuring talented students from the Fischoff Chamber Music Summer Intensive. Our students will demonstrate their exceptional talents and skills\, accompanied by the Intensive’s esteemed collaborative pianist\, Ellis Anderson.  \nPerformers:\nLeila Browning (violin)\, Simeon Wilson (violin)\, Thaelia Schommer-Pries (cello)\, Joanna Jong (violin)\,  Samuel Burden (clarinet)\, Abigail Kang (violin)\, Catherine Lutz (violin)\, and Adah Gaby (cello)  \nTime & Location\nTuesday\, June 11\, 2024\n4:00-4:45 PM\nLittle Theatre\, Moreau Center for the Arts\nSaint Mary’s College\, Notre Dame\, IN
URL:https://www.fischoff.org/event/student-showcase-concert-1/
LOCATION:Little Theatre\, Saint Mary’s College\, Little Theatre\, Moreau Center for the Arts\, Saint Mary's College\, Notre Dame\, IN\, 46556\, United States
CATEGORIES:Chamber Music Summer Intensive
ATTACH;FMTTYPE=image/jpeg:https://www.fischoff.org/wp-content/uploads/2024/05/Students-Showcase-Concert-Tuesday-Wednesday.jpg
END:VEVENT
BEGIN:VEVENT
DTSTART;TZID=America/New_York:20240611T130000
DTEND;TZID=America/New_York:20240611T133000
DTSTAMP:20260424T042128
CREATED:20240524T164440Z
LAST-MODIFIED:20240604T194246Z
UID:4613-1718110800-1718112600@www.fischoff.org
SUMMARY:Fischoff Chamber Music Summer Intensive: Colour of Anyhow Guest Artist Recital
DESCRIPTION:Please join us for a duo performance by members of Thalea String Quartet\, Kumiko Sakamoto and Christopher Whitley. \nInspired by their shared love of Canadian folk music\, pop\, and Western classical music\, Colour of Anyhow draws on a wide array of musical influences to celebrate the songs\, stories\, and experiences that bring us together. The duo’s original arrangements feature violin\, voice\, guitar\, and electronic elements\, creating musical and stylistic through lines that connect centuries of musical traditions.  \nSeeking an outlet for their many musical interests\, Sakamoto and Whitley formed their duo in 2020 for a series of virtual “at home” performances\, including a livestream for the National Art Centre’s #CanadaPerforms series. Upcoming projects include explorations of the music of Beverly Glenn-Copeland\, Nico Muhly\, and Thomas Morley\, a concerto for two violins by composer Vincent Ho\, and an original Colour of Anyhow composition commissioned by artist Deborah Forbes for her site-specific installation Sea Jellies\, premiering in August 2025. \nTime & Location\nTuesday\, June 11\n1:00-1:30 PM\nLittle Theatre\, Moreau Center for the Arts\nSaint Mary’s College\, Notre Dame\, IN
URL:https://www.fischoff.org/event/colour-of-anyhow-faculty-artist-recital/
LOCATION:Little Theatre\, Saint Mary’s College\, Little Theatre\, Moreau Center for the Arts\, Saint Mary's College\, Notre Dame\, IN\, 46556\, United States
CATEGORIES:Chamber Music Summer Intensive
ATTACH;FMTTYPE=image/jpeg:https://www.fischoff.org/wp-content/uploads/2024/05/Colour-of-Anyhow-Tuesday-Concert.jpg
END:VEVENT
BEGIN:VEVENT
DTSTART;TZID=America/New_York:20240610T130000
DTEND;TZID=America/New_York:20240610T130000
DTSTAMP:20260424T042128
CREATED:20240524T164111Z
LAST-MODIFIED:20240528T144442Z
UID:4602-1718024400-1718024400@www.fischoff.org
SUMMARY:Fischoff Chamber Music Summer Intensive: Thalea String Quartet Welcome Concert
DESCRIPTION:Please join us as we kick off the Fischoff Chamber Music Summer Intensive with a welcome concert by the Thalea String Quartet! Our quartet-in-residence will perform music by Haydn\, Zieg\, Yee\, and Riley!  \nProgram:\nString Quartet in B flat Major\, Op. 76\, No. 4\, “Sunrise” I. Allegro con spirit\, Joseph Haydn\nOn Ecofeminism\, II. Primatology\, Alyson Zieg\nSunrise of the Planetary Dream Collector\, Terry Riley\nSomething Golden\, Andrew Yee \nTime & Location\nMonday\, June 10\n1:00-1:45 PM\nLittle Theatre\, Moreau Center for the Arts\nSaint Mary’s College\, Notre Dame\, IN
URL:https://www.fischoff.org/event/thalea-string-quartet-welcome-concert/
LOCATION:Little Theatre\, Saint Mary’s College\, Little Theatre\, Moreau Center for the Arts\, Saint Mary's College\, Notre Dame\, IN\, 46556\, United States
CATEGORIES:Chamber Music Summer Intensive
ATTACH;FMTTYPE=image/jpeg:https://www.fischoff.org/wp-content/uploads/2024/05/Monday-Welcome-Concert-Image.jpg
END:VEVENT
BEGIN:VEVENT
DTSTART;VALUE=DATE:20240610
DTEND;VALUE=DATE:20240615
DTSTAMP:20260424T042128
CREATED:20240520T134434Z
LAST-MODIFIED:20240520T134434Z
UID:4012-1717977600-1718409599@www.fischoff.org
SUMMARY:Fischoff Chamber Music Summer Intensive 2024
DESCRIPTION:Fischoff National Chamber Music Association is proud to partner with Saint Mary’s College to present the 2024 Summer Chamber Music Intensive. This summer Intensive brings together young musicians and renowned professionals in a five-day intensive program of chamber music study\, masterclasses\, workshops\, solo and ensemble performances\, and community engagement opportunities. With the beauty of Saint Mary’s College\, Notre Dame\, IN as a backdrop\, the 2024 Fischoff Chamber Music Intensive will be a transformative musical experience for our students! \nThe 2024 Summer Intensive will take place Monday\, June 10 through Friday\, June 14. Learn more here.
URL:https://www.fischoff.org/event/fischoff-chamber-music-summer-intensive-2024/
LOCATION:IN
CATEGORIES:Chamber Music Summer Intensive
ATTACH;FMTTYPE=image/png:https://www.fischoff.org/wp-content/uploads/2024/05/2-1.png
END:VEVENT
BEGIN:VEVENT
DTSTART;TZID=America/New_York:20230616T153000
DTEND;TZID=America/New_York:20230616T163000
DTSTAMP:20260424T042128
CREATED:20230606T181658Z
LAST-MODIFIED:20230608T160916Z
UID:1663-1686929400-1686933000@www.fischoff.org
SUMMARY:Fischoff Chamber Music Summer Intensive Final Concert
DESCRIPTION:Our incredible Fischoff Chamber Music Summer Intensive Ensembles will be on stage this Friday\, June 16\, for the Final Concert. They will present an afternoon of wonderful chamber music works by Tartini\, Dvorak\, Shostakovich\, Florence Price and more! \nTime & Location: Friday\, June 16\, 2023\n3:30 pm – 4:30 pm EST \nLittle Theatre\nMoreau Center for the Arts\nSaint Mary’s College\, Notre Dame\, IN 46556
URL:https://www.fischoff.org/event/fischoff-chamber-music-summer-intensive-final-concert/
LOCATION:Little Theatre\, Saint Mary’s College\, Little Theatre\, Moreau Center for the Arts\, Saint Mary's College\, Notre Dame\, IN\, 46556\, United States
CATEGORIES:Chamber Music Summer Intensive,Fischoff Chamber Music Academy
ATTACH;FMTTYPE=image/jpeg:https://www.fischoff.org/wp-content/uploads/2023/06/Fischoff-Academy-Final-Performance-0821.jpg
END:VEVENT
BEGIN:VEVENT
DTSTART;TZID=America/New_York:20230614T130000
DTEND;TZID=America/New_York:20230614T133000
DTSTAMP:20260424T042128
CREATED:20230606T170459Z
LAST-MODIFIED:20230608T160125Z
UID:1660-1686747600-1686749400@www.fischoff.org
SUMMARY:Faculty Recital Chris Whitley\, violin: Fischoff Chamber Music Summer Intensive
DESCRIPTION:Don’t miss Chris Whitley of the Thalea String Quartet’s solo violin performance on Wednesday\, June 14th as part of the Fischoff Chamber Music Summer Intensive. \nProgram:\nBellatrix — By Jeffrey Ryan (born 1962) \nPasscaglia — By Heinrich Ignaz Franz Biber (1644-1704) \nTime & Location: Wednesday\, June 14\, 2023\n1:00 pm – 1:30 pm EST \nLittle Theatre\nMoreau Center for the Arts\nSaint Mary’s College\, Notre Dame\, IN 46556
URL:https://www.fischoff.org/event/faculty-recital-chris-whitley-violin-fischoff-chamber-music-summer-intensive/
LOCATION:Little Theatre\, Saint Mary’s College\, Little Theatre\, Moreau Center for the Arts\, Saint Mary's College\, Notre Dame\, IN\, 46556\, United States
CATEGORIES:Chamber Music Summer Intensive,Fischoff Chamber Music Academy
ATTACH;FMTTYPE=image/jpeg:https://www.fischoff.org/wp-content/uploads/2023/06/Chris-Whitely-Thalea-1.jpg
END:VEVENT
BEGIN:VEVENT
DTSTART;TZID=America/New_York:20230613T160000
DTEND;TZID=America/New_York:20230613T170000
DTSTAMP:20260424T042128
CREATED:20230606T165824Z
LAST-MODIFIED:20230609T150005Z
UID:1657-1686672000-1686675600@www.fischoff.org
SUMMARY:Student Showcase Concert: Fischoff Chamber Music Summer Intensive
DESCRIPTION:Join us for a Student Showcase Concert on Tuesday\, June 13th. Talented students from the Fischoff Chamber Music Summer Intensive will demonstrate their talents and skills accompanied by Intensive piano faculty\, Prof. Geoffrey Duce. \nPerformers:\n– Dario Albahari\, violin\n– Ray Fan\, piano\n– Micah Gresl-Turner\, cello\n– Annabelle Huebner\, piano\n– Joanna Jong\, violin\n– Abigail Kang\, violin\n– Catherine Lutz\, violin\n– Isabella Lutz\, violin\n– James Pennix\, viola\n– Erika Ruiz-Yamamoto\, piano\n– Felix Zhang\, violin \nTime & Location: Tuesday\, June 13\, 2023\n4:00 pm – 5:00 pm EST \nLittle Theatre\nMoreau Center for the Arts\nSaint Mary’s College\, Notre Dame\, IN 46556 \n 
URL:https://www.fischoff.org/event/student-showcase-concert-fischoff-chamber-music-summer-intensive/
LOCATION:Little Theatre\, Saint Mary’s College\, Little Theatre\, Moreau Center for the Arts\, Saint Mary's College\, Notre Dame\, IN\, 46556\, United States
CATEGORIES:Chamber Music Summer Intensive,Fischoff Chamber Music Academy
END:VEVENT
BEGIN:VEVENT
DTSTART;TZID=America/New_York:20230612T160000
DTEND;TZID=America/New_York:20230612T170000
DTSTAMP:20260424T042128
CREATED:20230606T162756Z
LAST-MODIFIED:20230608T152814Z
UID:1644-1686585600-1686589200@www.fischoff.org
SUMMARY:Thalea String Quartet with Geoffrey Duce\, piano: Fischoff Chamber Music Summer Intensive
DESCRIPTION:Join us for a stunning performance by the ensemble-in-residence for the Fischoff Chamber Music Summer Intensive: the Thalea String Quartet! Together with Geoffrey Duce on piano\, the Thalea String Quartet is a great example of a professional chamber music ensemble that each of our Academy and Summer Intensive students can learn from and aspire to be. \nProgram:\nString Quartet Op. 64 No. 5 — By Joseph Haydn (1732-1809)\nI. Allegro moderato \nPiano Quintet No. 2 in A Major Op. 81 — By Antonín Dvořák (1841-1904)\nI. Allegro\, ma non tanto\nIII. Scherzo (Furiant): Molto vivace\nIV. Finale: Allegro \nString Quartet No. 5 — Daniel Bernard Roumain (born 1971)\nII. Klap Ur Handz \nTime & Location: Monday\, June 12\, 2023\n4:00 pm – 5:00 pm EST \nLittle Theatre\nMoreau Center for the Arts\nSaint Mary’s College\, Notre Dame\, IN 46556
URL:https://www.fischoff.org/event/thalea-string-quartet-with-geoffrey-duce-piano-fischoff-chamber-music-summer-intensive/
LOCATION:Little Theatre\, Saint Mary’s College\, Little Theatre\, Moreau Center for the Arts\, Saint Mary's College\, Notre Dame\, IN\, 46556\, United States
CATEGORIES:Chamber Music Summer Intensive,Fischoff Chamber Music Academy
ATTACH;FMTTYPE=image/png:https://www.fischoff.org/wp-content/uploads/2023/06/Thalea-and-Duce-Concert-Photo.png
END:VEVENT
END:VCALENDAR